BEGIN:VCALENDAR
VERSION:2.0
PRODID:-//hacksw/handcal//NONSGML v1.0//EN
CALSCALE:GREGORIAN
BEGIN:VEVENT
DTEND:20260314T133000Z
UID:69e88c2558a5e
DTSTAMP:19700101T000000Z
LOCATION:
DESCRIPTION:Auf Spurensuche in die Kölner Vergangenheit
URL;VALUE=URI:https://dev.koelner-wissenschaftsrunde.de/kwr_termine/geschichtsdetektive-im-zeitungsarchiv-2/
SUMMARY:Geschichtsdetektive im Zeitungsarchiv
DTSTART:20260314T090000Z
END:VEVENT
END:VCALENDAR