BEGIN:VCALENDAR
VERSION:2.0
PRODID:-//hacksw/handcal//NONSGML v1.0//EN
CALSCALE:GREGORIAN
BEGIN:VEVENT
DTEND:20260506T173000Z
UID:69e64df6d2534
DTSTAMP:19700101T000000Z
LOCATION:
DESCRIPTION:Man sagt, nach der 8. Symphonie habe Mahler, um der magischen Nr. 9 auszuweichen, zunächst den sinfonischen Liederzyklus „Das Lied von der Erde“ komponiert eigentlich auch eine Symphonie für großes Orchester mit Alt- und Tenorsolo. Studierende aus drei Fachbereichen unter der Gesamtleitung von Alexander Rumpf werden das Werk in Montepulciano erarbeiten und aufführen und am 6. Mai 2026 auch im Konzertsaal der HfMT zu Gehör bringen.
URL;VALUE=URI:https://dev.koelner-wissenschaftsrunde.de/kwr_termine/gustav-mahler-das-lied-von-der-erde/
SUMMARY:Gustav Mahler: Das Lied von der Erde
DTSTART:20260506T173000Z
END:VEVENT
END:VCALENDAR