BEGIN:VCALENDAR
VERSION:2.0
PRODID:-//hacksw/handcal//NONSGML v1.0//EN
CALSCALE:GREGORIAN
BEGIN:VEVENT
DTEND:20260317T170000Z
UID:69e64e004c756
DTSTAMP:19700101T000000Z
LOCATION:
DESCRIPTION:Habt ihr euch schon mal gefragt, wie ihr funktioniert? Warum klappt das?
URL;VALUE=URI:https://dev.koelner-wissenschaftsrunde.de/kwr_termine/unser-gehirn-der-beste-computer-der-welt-2/
SUMMARY:Unser Gehirn – der beste Computer der Welt
DTSTART:20260317T150000Z
END:VEVENT
END:VCALENDAR