BEGIN:VCALENDAR
VERSION:2.0
PRODID:-//hacksw/handcal//NONSGML v1.0//EN
CALSCALE:GREGORIAN
BEGIN:VEVENT
DTEND:20220622T140000Z
UID:69e64e39c52be
DTSTAMP:19700101T000000Z
LOCATION:
DESCRIPTION:Raspberry ist das englisch Wort für Himbeere. Pi steht für Phyton Interpreter, eine wichtige Programmiersprache auf diesem Mini-Computer. In diesem Kurs programmieren wir mit dem Rapsberry Pi mehrere interessante Projekte, wie bspw. eine Fußgängerampel, ein Disco-Licht-Effekt, ein Gamepad und eine Klaviertastatur.
URL;VALUE=URI:https://dev.koelner-wissenschaftsrunde.de/kwr_termine/minicomputer-das-kannst-du-mit-dem-raspberry-pi-alles-machen/
SUMMARY:MiniComputer &#8211; Das kannst Du mit dem Raspberry Pi alles machen
DTSTART:20220622T130000Z
END:VEVENT
END:VCALENDAR