BEGIN:VCALENDAR
VERSION:2.0
PRODID:-//hacksw/handcal//NONSGML v1.0//EN
CALSCALE:GREGORIAN
BEGIN:VEVENT
DTEND:20220517T153000Z
UID:69e64e0077a9b
DTSTAMP:19700101T000000Z
LOCATION:
DESCRIPTION:Wie viele Muskeln haben wir Menschen, was denkt Ihr? Wie ist so ein Muskel aufgebaut, wofür brauchen wir überhaupt unsere Muskeln und wie sieht ein Muskel unter dem Mikroskop aus? Das erfahrt Ihr alles bei uns!
URL;VALUE=URI:https://dev.koelner-wissenschaftsrunde.de/kwr_termine/muskeln-unterm-mikroskop-3/
SUMMARY:Muskeln unterm Mikroskop
DTSTART:20220517T140000Z
END:VEVENT
END:VCALENDAR