BEGIN:VCALENDAR
VERSION:2.0
PRODID:-//hacksw/handcal//NONSGML v1.0//EN
CALSCALE:GREGORIAN
BEGIN:VEVENT
DTEND:20220412T114500Z
UID:69e663f9eea61
DTSTAMP:19700101T000000Z
LOCATION:
DESCRIPTION:Hast du dich schonmal gefragt, wie Lehrerinnen und Lehrer Aufgaben in Prüfungen leicht oder schwer machen? Wir werden einen Blick auf die häufigste Technik dazu werfen und selbst ausprobieren. Dadurch bekommst du auch Tipps für deine eigene Prüfungsvorbereitung.
URL;VALUE=URI:https://dev.koelner-wissenschaftsrunde.de/kwr_termine/puh-diese-aufgabe-ist-aber-schwer/
SUMMARY:Puh, diese Aufgabe ist aber schwer!
DTSTART:20220412T104500Z
END:VEVENT
END:VCALENDAR