BEGIN:VCALENDAR
VERSION:2.0
PRODID:-//hacksw/handcal//NONSGML v1.0//EN
CALSCALE:GREGORIAN
BEGIN:VEVENT
DTEND:20251209T183000Z
UID:69e64df676ed2
DTSTAMP:19700101T000000Z
LOCATION:
DESCRIPTION:Man darf sich auf ein sehr spannendes Hörerlebnis freuen, bei dem sich in einem Konzert Musiker aller Fachbereiche der HFMT auf der Aulabühne künstlerisch zeigen und Solo wie im Ensemble miteinander musikalische Statements setzen - traditionsbewusst, kreativ, tolerant, weltoffen
URL;VALUE=URI:https://dev.koelner-wissenschaftsrunde.de/kwr_termine/spitzentoene-konzert-und-tanzgeschichten-x-x/
SUMMARY:Spitzentöne Konzert- und Tanzgeschichte*n X/X
DTSTART:20251209T183000Z
END:VEVENT
END:VCALENDAR