BEGIN:VCALENDAR
VERSION:2.0
PRODID:-//hacksw/handcal//NONSGML v1.0//EN
CALSCALE:GREGORIAN
BEGIN:VEVENT
DTEND:20211117T160000Z
UID:69e89e30dab2a
DTSTAMP:19700101T000000Z
LOCATION:
DESCRIPTION:Etwas Unwerwartetes passiert, jemand gerät in eine Notsituation und Du sollst helfen. Wie bleibst Du ruhig und was machst Du jetzt Schritt für Schritt?
URL;VALUE=URI:https://dev.koelner-wissenschaftsrunde.de/kwr_termine/lebenretten-kann-jeder-auch-du-2/
SUMMARY:Lebenretten kann jeder! Auch du!
DTSTART:20211117T150000Z
END:VEVENT
END:VCALENDAR