BEGIN:VCALENDAR
VERSION:2.0
PRODID:-//hacksw/handcal//NONSGML v1.0//EN
CALSCALE:GREGORIAN
BEGIN:VEVENT
DTEND:20220518T140000Z
UID:69e88c6899b75
DTSTAMP:19700101T000000Z
LOCATION:
DESCRIPTION:Egal wie alt Ihr seid, ob in Euch bereits ein kleiner Tennisprofi schlummert oder Ihr noch nie einen Tennisschläger in der Hand hattet: Kommt vorbei und spielt mit! Vielleicht wird einer von Euch Mal so gut wie Rafael Nadal.
URL;VALUE=URI:https://dev.koelner-wissenschaftsrunde.de/kwr_termine/muskeln-unterm-mikroskop/
SUMMARY:Tennis
DTSTART:20220518T123000Z
END:VEVENT
END:VCALENDAR