BEGIN:VCALENDAR
VERSION:2.0
PRODID:-//hacksw/handcal//NONSGML v1.0//EN
CALSCALE:GREGORIAN
BEGIN:VEVENT
DTEND:20210622T153000Z
UID:69e64c56e6b88
DTSTAMP:19700101T000000Z
LOCATION:
DESCRIPTION:Alle reden immer darüber, dass Fernsehen so teuer ist. Warum eigentlich? Man braucht doch nur… ja was?
URL;VALUE=URI:https://dev.koelner-wissenschaftsrunde.de/kwr_termine/fernsehen-machen-ist-doch-kinderleicht/
SUMMARY:Fernsehen Machen ist doch kinderleicht!
DTSTART:20210622T133000Z
END:VEVENT
END:VCALENDAR