BEGIN:VCALENDAR
VERSION:2.0
PRODID:-//hacksw/handcal//NONSGML v1.0//EN
CALSCALE:GREGORIAN
BEGIN:VEVENT
DTEND:20260311T163000Z
UID:69e64ca3ee6c3
DTSTAMP:19700101T000000Z
LOCATION:
DESCRIPTION:Kann man Sprache im Labor untersuchen?
URL;VALUE=URI:https://dev.koelner-wissenschaftsrunde.de/kwr_termine/geheimnisse-unserer-sprache-2/
SUMMARY:Geheimnisse unserer Sprache
DTSTART:20260311T150000Z
END:VEVENT
END:VCALENDAR