BEGIN:VCALENDAR
VERSION:2.0
PRODID:-//hacksw/handcal//NONSGML v1.0//EN
CALSCALE:GREGORIAN
BEGIN:VEVENT
DTEND:20260506T173000Z
UID:69e64ca4d4c54
DTSTAMP:19700101T000000Z
LOCATION:
DESCRIPTION:Die enge Zusammen­arbeit mit dem Berufsfeld ist wichtiger Bestandteil des Curriculums des BA Tanz. Die aktuelle Kooperation mit dem Schauspiel Köln bindet zehn Studierende aus dem BA Tanz in die Produktion DIE ORESTIE ein. Die australische Regisseurin Adena Jacobs bringt DIE ORESTIE in einer Fassung auf die Bühne, die sich auf die Verbrechen an Iphigenie und Klytaimnestra konzentriert.
URL;VALUE=URI:https://dev.koelner-wissenschaftsrunde.de/kwr_termine/die-orestie-kooperation-ba-tanz-schauspiel-koeln/
SUMMARY:DIE ORESTIE – Kooperation BA Tanz &#038; Schauspiel Köln
DTSTART:20260320T183000Z
END:VEVENT
END:VCALENDAR