BEGIN:VCALENDAR
VERSION:2.0
PRODID:-//hacksw/handcal//NONSGML v1.0//EN
CALSCALE:GREGORIAN
BEGIN:VEVENT
DTEND:20260904T150000Z
UID:69e64c6f6cf38
DTSTAMP:19700101T000000Z
LOCATION:
DESCRIPTION:Was ist eigentlich DNA und wo finden wir sie? Wie kann uns die Pflanzenforschung in Zukunft helfen?
URL;VALUE=URI:https://dev.koelner-wissenschaftsrunde.de/kwr_termine/dna-aus-obst-und-gemuese-2/
SUMMARY:DNA aus Obst und Gemüse
DTSTART:20260904T130000Z
END:VEVENT
END:VCALENDAR