BEGIN:VCALENDAR
VERSION:2.0
PRODID:-//hacksw/handcal//NONSGML v1.0//EN
CALSCALE:GREGORIAN
BEGIN:VEVENT
DTEND:20220310T163000Z
UID:69e64c6f7fcff
DTSTAMP:19700101T000000Z
LOCATION:
DESCRIPTION:Lernt hier etwas über die Erste-Hilfe und wie eine Notfallversorgung klappen kann ohne Angst haben zu müssen.
URL;VALUE=URI:https://dev.koelner-wissenschaftsrunde.de/kwr_termine/scratch-mit-bildern-spielend-programmieren-lernen-gruppe-1/
SUMMARY:Notfallversorgung und Wiederbelebung &#8211; gar nicht so schwer! (Gruppe 1)
DTSTART:20220310T150000Z
END:VEVENT
END:VCALENDAR