BEGIN:VCALENDAR
VERSION:2.0
PRODID:-//hacksw/handcal//NONSGML v1.0//EN
CALSCALE:GREGORIAN
BEGIN:VEVENT
DTEND:20210628T153000Z
UID:69e64c6fec172
DTSTAMP:19700101T000000Z
LOCATION:
DESCRIPTION:Heute geht es rund um das Thema Schwerelosigkeit. Wie wird sie auf der Erde erforscht und wie wirkt sie sich auf Astronaut*innen im Weltall aus?
URL;VALUE=URI:https://dev.koelner-wissenschaftsrunde.de/kwr_termine/mensch-und-weltraum/
SUMMARY:Mensch und Weltraum
DTSTART:20210628T140000Z
END:VEVENT
END:VCALENDAR