BEGIN:VCALENDAR
VERSION:2.0
PRODID:-//hacksw/handcal//NONSGML v1.0//EN
CALSCALE:GREGORIAN
BEGIN:VEVENT
DTEND:20260325T163000Z
UID:69e64c5656eb6
DTSTAMP:19700101T000000Z
LOCATION:
DESCRIPTION:Wie ernährt sich ein Baby im Bauch und später?
URL;VALUE=URI:https://dev.koelner-wissenschaftsrunde.de/kwr_termine/von-winzig-klein-zu-gross-und-stark/
SUMMARY:Von winzig klein zu groß und stark
DTSTART:20260325T150000Z
END:VEVENT
END:VCALENDAR