BEGIN:VCALENDAR
VERSION:2.0
PRODID:-//hacksw/handcal//NONSGML v1.0//EN
CALSCALE:GREGORIAN
BEGIN:VEVENT
DTEND:20210625T140000Z
UID:69e64ae9a7401
DTSTAMP:19700101T000000Z
LOCATION:
DESCRIPTION:Habt ihr irgendwelche Fragen rund um Kunststoffe? Hier ist eure Chance sie zu stellen. Professor Bonnet von der TH Köln wird sie euch beantworten. Wenn ihr also schon immer wissen wolltet, warum manche Kunststoffe weich und andere hart sind, warum manche durchsichtig sind und andere nicht, ob Kunststoffe giftig sind oder oder oder - Am 25.06. gibt es dann die Antworten auf Eure Fragen.
URL;VALUE=URI:https://dev.koelner-wissenschaftsrunde.de/kwr_termine/welt-der-kunststoffe-das-finale/
SUMMARY:Welt der Kunststoffe &#8211; Das Finale
DTSTART:20210625T130000Z
END:VEVENT
END:VCALENDAR