BEGIN:VCALENDAR
VERSION:2.0
PRODID:-//hacksw/handcal//NONSGML v1.0//EN
CALSCALE:GREGORIAN
BEGIN:VEVENT
DTEND:20260207T183000Z
UID:69e88c4dbf35e
DTSTAMP:19700101T000000Z
LOCATION:
DESCRIPTION:Intersektionale Geschlechterperspektiven in der Forschung – warum brauchen wir sie? Welche Bedeutung haben diese Perspektiven und Erkenntnisse für unsere Gesellschaft? Wie fließen sie in wissenschaftliche Prozesse ein? Und wie gelangen die Erkenntnisse in die Gesellschaft? Sechs Wissenschaftler*innen beantworten diese Fragen aus ganz unterschiedlichen Fachbereichen und Disziplinen.
URL;VALUE=URI:https://dev.koelner-wissenschaftsrunde.de/kwr_termine/science-slam-see-more-than-before/
SUMMARY:Science Slam &#8222;See more than before&#8220;
DTSTART:20260207T183000Z
END:VEVENT
END:VCALENDAR