BEGIN:VCALENDAR
VERSION:2.0
PRODID:-//hacksw/handcal//NONSGML v1.0//EN
CALSCALE:GREGORIAN
BEGIN:VEVENT
DTEND:20220413T131500Z
UID:69e64a82bb23f
DTSTAMP:19700101T000000Z
LOCATION:
DESCRIPTION:
URL;VALUE=URI:https://dev.koelner-wissenschaftsrunde.de/kwr_termine/computerspiele-schlaumacher-oder-krankmacher/
SUMMARY:Computerspiele &#8211; Schlaumacher oder Krankmacher?!
DTSTART:20220413T120000Z
END:VEVENT
END:VCALENDAR