BEGIN:VCALENDAR
VERSION:2.0
PRODID:-//hacksw/handcal//NONSGML v1.0//EN
CALSCALE:GREGORIAN
BEGIN:VEVENT
DTEND:20210309T070000Z
UID:69e64ae9a8ee0
DTSTAMP:19700101T000000Z
LOCATION:
DESCRIPTION:Die KölnerKinderUni startet mit einem besonderen digitalen Projekt: „Hirngesundheit oder Wenn Omi die Brille in den Kühlschrank legt...“  unter der Leitung von Professorin Dr. Elke Kalbe und ihren Mitarbeiterinnen Dr. Ann-Kristin Folkerts und Viktoria Vida der Uniklinik Köln.
URL;VALUE=URI:https://dev.koelner-wissenschaftsrunde.de/kwr_termine/workshop-hirngesundheit/
SUMMARY:Workshop Hirngesundheit
DTSTART:20210309T070000Z
END:VEVENT
END:VCALENDAR