BEGIN:VCALENDAR
VERSION:2.0
PRODID:-//hacksw/handcal//NONSGML v1.0//EN
CALSCALE:GREGORIAN
BEGIN:VEVENT
DTEND:20260320T170000Z
UID:69e64a9c41da3
DTSTAMP:19700101T000000Z
LOCATION:
DESCRIPTION:Eine Reise in unser Auge
URL;VALUE=URI:https://dev.koelner-wissenschaftsrunde.de/kwr_termine/was-ist-sehen-3/
SUMMARY:Was ist Sehen?
DTSTART:20260320T160000Z
END:VEVENT
END:VCALENDAR