BEGIN:VCALENDAR
VERSION:2.0
PRODID:-//hacksw/handcal//NONSGML v1.0//EN
CALSCALE:GREGORIAN
BEGIN:VEVENT
DTEND:20260326T170000Z
UID:69e64aea5c0e0
DTSTAMP:19700101T000000Z
LOCATION:
DESCRIPTION:Ist Medizin nur zum Gesundmachen da?
URL;VALUE=URI:https://dev.koelner-wissenschaftsrunde.de/kwr_termine/unheilbar-krank-2/
SUMMARY:Unheilbar krank
DTSTART:20260326T153000Z
END:VEVENT
END:VCALENDAR