BEGIN:VCALENDAR
VERSION:2.0
PRODID:-//hacksw/handcal//NONSGML v1.0//EN
CALSCALE:GREGORIAN
BEGIN:VEVENT
DTEND:20210615T150000Z
UID:69e64ad949c29
DTSTAMP:19700101T000000Z
LOCATION:
DESCRIPTION:Ihr alle kennt Roboter aus dem Fernsehen. Aber wo finden wir sie im waren Leben? Und was können Sie für unsere Gesellschaft und unseren Alltag alles tun?
URL;VALUE=URI:https://dev.koelner-wissenschaftsrunde.de/kwr_termine/was-ist-eigentlich-ein-sozialer-roboter-2/
SUMMARY:Was ist eigentlich ein sozialer Roboter?
DTSTART:20210615T140000Z
END:VEVENT
END:VCALENDAR