BEGIN:VCALENDAR
VERSION:2.0
PRODID:-//hacksw/handcal//NONSGML v1.0//EN
CALSCALE:GREGORIAN
BEGIN:VEVENT
DTEND:20260318T161500Z
UID:69e64a82bb27e
DTSTAMP:19700101T000000Z
LOCATION:
DESCRIPTION:Kinderbücher lesen und unter die Lupe nehmen
URL;VALUE=URI:https://dev.koelner-wissenschaftsrunde.de/kwr_termine/lesebar-goes-kinderuni/
SUMMARY:Les(e)bar goes KinderUni
DTSTART:20260318T150000Z
END:VEVENT
END:VCALENDAR