BEGIN:VCALENDAR
VERSION:2.0
PRODID:-//hacksw/handcal//NONSGML v1.0//EN
CALSCALE:GREGORIAN
BEGIN:VEVENT
DTEND:20260320T180000Z
UID:69e64ad9bde92
DTSTAMP:19700101T000000Z
LOCATION:
DESCRIPTION:Entdecke die Geheimnisse von Zucker
URL;VALUE=URI:https://dev.koelner-wissenschaftsrunde.de/kwr_termine/suesse-wissenschaft/
SUMMARY:„Süße Wissenschaft“
DTSTART:20260320T160000Z
END:VEVENT
END:VCALENDAR