BEGIN:VCALENDAR
VERSION:2.0
PRODID:-//hacksw/handcal//NONSGML v1.0//EN
CALSCALE:GREGORIAN
BEGIN:VEVENT
DTEND:20220620T150000Z
UID:69e88959793f0
DTSTAMP:19700101T000000Z
LOCATION:
DESCRIPTION:Hast du ein Anrecht auf Taschengeld oder das neueste Handy? Bist du verpflichtet dein Zimmer aufzuräumen? Entscheiden nur deine Eltern, wenn es um deine Schule geht oder ob und wie lange Du feiern gehen darfst? Wie sieht es mit Themen wie Alkohol aus? Worauf musst du beim Surfen im Internet achten? Diese und viele weitere spannende Fragen werden in dieser Vorlesung beantwortet.
URL;VALUE=URI:https://dev.koelner-wissenschaftsrunde.de/kwr_termine/recht-fuer-teens-was-darf-ich-was-nicht-und-welche-pflichten-habe-ich/
SUMMARY:Recht für Teens &#8211; Was darf ich, was nicht? Und welche Pflichten habe ich?
DTSTART:20220620T133000Z
END:VEVENT
END:VCALENDAR