BEGIN:VCALENDAR
VERSION:2.0
PRODID:-//hacksw/handcal//NONSGML v1.0//EN
CALSCALE:GREGORIAN
BEGIN:VEVENT
DTEND:20220315T163000Z
UID:69e6514d74cf4
DTSTAMP:19700101T000000Z
LOCATION:
DESCRIPTION:Wie können Geheimnisse verschlüsselt übermittelt werden? Wie wurde das vor vielen Jahrtausenden gemacht und wie passiert das heute bspw. in Handys und Computern?
URL;VALUE=URI:https://dev.koelner-wissenschaftsrunde.de/kwr_termine/kryptologie-der-spionageworkshop-fuer-geheime-nachrichten-beide-termine-gehoeren-zusammen/
SUMMARY:Kryptologie – Der Spionageworkshop für geheime Nachrichten (beide Termine gehören zusammen)
DTSTART:20220308T153000Z
END:VEVENT
END:VCALENDAR