BEGIN:VCALENDAR
VERSION:2.0
PRODID:-//hacksw/handcal//NONSGML v1.0//EN
CALSCALE:GREGORIAN
BEGIN:VEVENT
DTEND:20220329T150000Z
UID:69eb57794bd5d
DTSTAMP:19700101T000000Z
LOCATION:
DESCRIPTION:In diesem Kurs werdet ihr am Beispiel einiger Studien und einfacher Beispiele spielerisch lernen, was es heißt, wissenschaftlich zu denken und zu arbeiten. Wir werden besprechen, warum Wissenschaft immer mit Unsicherheit und Skepsis einhergeht und man besser nicht sagen sollte, dass etwas „bewiesen“ wurde (außer in der Mathematik).
URL;VALUE=URI:https://dev.koelner-wissenschaftsrunde.de/kwr_termine/wer-ins-museum-geht-lebt-laenger-und-durch-schokolade-nimmt-man-ab-ein-kleiner-einblick-in-das-denken-von-forschenden/
SUMMARY:Wer ins Museum geht lebt länger und durch Schokolade nimmt man ab? Ein kleiner Einblick in das Denken von Forschenden
DTSTART:20220329T140000Z
END:VEVENT
END:VCALENDAR