BEGIN:VCALENDAR
VERSION:2.0
PRODID:-//hacksw/handcal//NONSGML v1.0//EN
CALSCALE:GREGORIAN
BEGIN:VEVENT
DTEND:20260119T170000Z
UID:69e63ab4257d5
DTSTAMP:19700101T000000Z
LOCATION:
DESCRIPTION:Die beiden größten Onkologischen Spitzenzentren in Nordrhein-Westfalen, das Centrum für Integrierte Onkologie der Uniklinik Köln (CIO Köln) und das Westdeutsche Tumorzentrum der Universitätsmedizin Essen (WTZ Essen) laden gemeinsam mit dem Ministerium für Kultur und Wissenschaft zum „Onko-Talk NRW“ ein.
URL;VALUE=URI:https://dev.koelner-wissenschaftsrunde.de/kwr_termine/onko-talk-nrw-nrw-forschungsdurchbrueche-welche-die-onkologie-veraendert-haben/
SUMMARY:„Onko-Talk NRW“: NRW-Forschungsdurchbrüche, welche die Onkologie verändert haben
DTSTART:20260119T153000Z
END:VEVENT
END:VCALENDAR