BEGIN:VCALENDAR
VERSION:2.0
PRODID:-//hacksw/handcal//NONSGML v1.0//EN
CALSCALE:GREGORIAN
BEGIN:VEVENT
DTEND:20220328T160000Z
UID:69e8b376487ee
DTSTAMP:19700101T000000Z
LOCATION:
DESCRIPTION:Heute lernt jeder Studierende der Wirtschaftswissenschaften die nach ihm benannten Gossenschen Gesetze. Ihr lernt in der Vorlesung, was diese Erkenntnisse für Euch und uns alle bedeuten, nämlich warum wir nicht einfach immer glücklicher werden, wenn wir immer mehr haben.
URL;VALUE=URI:https://dev.koelner-wissenschaftsrunde.de/kwr_termine/macht-es-uns-gluecklicher-wenn-wir-mehr-bekommen-oder-mehr-haben-spannende-ideen-aus-der-welt-der-wirtschaft-gruppe-1/
SUMMARY:Macht es uns glücklicher, wenn wir mehr bekommen oder mehr haben? Spannende Ideen aus der Welt der Wirtschaft (Gruppe 1)
DTSTART:20220328T150000Z
END:VEVENT
END:VCALENDAR