BEGIN:VCALENDAR
VERSION:2.0
PRODID:-//hacksw/handcal//NONSGML v1.0//EN
CALSCALE:GREGORIAN
BEGIN:VEVENT
DTEND:20210407T090000Z
UID:69e63ab510721
DTSTAMP:19700101T000000Z
LOCATION:
DESCRIPTION:Sexuelle Übergriffe und sexuelle Gewalt - wie entsteht beides, was kann man dagegen tun? Welche Rechte haben Kinder und wo holt man sich Hilfe?
URL;VALUE=URI:https://dev.koelner-wissenschaftsrunde.de/kwr_termine/ich-bestimme-ueber-meinen-koerper-wissen-zu-kinderrechten-und-hilfe-bei-sexueller-gewalterfahrung/
SUMMARY:„Ich bestimme über meinen Körper“ – Wissen zu Kinderrechten und Hilfe bei sexueller Gewalterfahrung
DTSTART:20210407T080000Z
END:VEVENT
END:VCALENDAR