BEGIN:VCALENDAR
VERSION:2.0
PRODID:-//hacksw/handcal//NONSGML v1.0//EN
CALSCALE:GREGORIAN
BEGIN:VEVENT
DTEND:20260601T160000Z
UID:69e650c5bee39
DTSTAMP:19700101T000000Z
LOCATION:
DESCRIPTION:Ernährung und Gesundheit gehören für viele Menschen untrennbar zusammen. Eine zentrale Rolle spielt dabei die bewusste Auswahl von Lebensmitteln. Doch was macht ein Lebensmittel wirklich gesund? Wie beeinflussen Superfoods, Eier oder Kekse unsere Gesundheit? Und ist es überhaupt sinnvoll, den Gesundheitswert einzelner Lebensmittel isoliert zu betrachten?
URL;VALUE=URI:https://dev.koelner-wissenschaftsrunde.de/kwr_termine/lebensmittel-ernaehrung-und-gesundheit-wo-stehen-wir-heute/
SUMMARY:Lebensmittel, Ernährung und Gesundheit – wo stehen wir heute?
DTSTART:20260601T160000Z
END:VEVENT
END:VCALENDAR