BEGIN:VCALENDAR
VERSION:2.0
PRODID:-//hacksw/handcal//NONSGML v1.0//EN
CALSCALE:GREGORIAN
BEGIN:VEVENT
DTEND:20251211T180000Z
UID:69e63aca8beda
DTSTAMP:19700101T000000Z
LOCATION:
DESCRIPTION:Die Filmreihe mit Debütfilmen von Absolvent*innen der KHM zeigt den Dokumentarfilm von Filippa Bauer „Die Statik der Träume“. Der Film feierte seine Uraufführung bei den Hofer Filmtagen 2024. Seit September bringt ihn der Verleih Dokomotive Plattform bundesweit auf die Leinwand. Im Anschluss an die Filmpräsentation führt Prof. Alejandro Bachmann das Gespräch mit der Regisseurin Filippa Bauer, dem Kamermann Igor Nović und der Editorin Sarah Weber.
URL;VALUE=URI:https://dev.koelner-wissenschaftsrunde.de/kwr_termine/filmreihe-heimspiel-zeigt-die-statik-der-traeume/
SUMMARY:Filmreihe &#8211; HEIMSPIEL zeigt: Die Statik der Träume
DTSTART:20251211T180000Z
END:VEVENT
END:VCALENDAR