BEGIN:VCALENDAR
VERSION:2.0
PRODID:-//hacksw/handcal//NONSGML v1.0//EN
CALSCALE:GREGORIAN
BEGIN:VEVENT
DTEND:20260306T190000Z
UID:69e63ac092834
DTSTAMP:19700101T000000Z
LOCATION:
DESCRIPTION:
URL;VALUE=URI:https://dev.koelner-wissenschaftsrunde.de/kwr_termine/volkssternwarte-koeln-der-urknall-geburt-des-weltalls-aus-dem-nichts/
SUMMARY:Volkssternwarte Köln: „DER URKNALL &#8211; Geburt des Weltalls aus dem Nichts?“
DTSTART:20260306T190000Z
END:VEVENT
END:VCALENDAR