BEGIN:VCALENDAR
VERSION:2.0
PRODID:-//hacksw/handcal//NONSGML v1.0//EN
CALSCALE:GREGORIAN
BEGIN:VEVENT
DTEND:20251215T171500Z
UID:69e6510c4a0a4
DTSTAMP:19700101T000000Z
LOCATION:
DESCRIPTION:An der Universität zu Köln mit den Instituten der Geophysik, Meteorologie, Geographie, Geologie und Mineralogie sowie der Informatik und Mathematik wird das Thema „Intelligente Methoden der Erdsystemwissenschaften“ im Rahmen eines von 9 Kernprofilbereichen der UzK hervorgehoben. Dieses interdisziplinäre Forschungsfeld greift die Universität zu Köln in dieser Ringvorlesung erneut auf.
URL;VALUE=URI:https://dev.koelner-wissenschaftsrunde.de/kwr_termine/vorlesung-fingerabdruecke-in-der-luft-auf-der-suche-nach-atmosphaerischen-spurenstoffen/
SUMMARY:Vorlesung: Fingerabdrücke in der Luft – Auf der Suche nach atmosphärischen Spurenstoffen
DTSTART:20251215T150000Z
END:VEVENT
END:VCALENDAR