BEGIN:VCALENDAR
VERSION:2.0
PRODID:-//hacksw/handcal//NONSGML v1.0//EN
CALSCALE:GREGORIAN
BEGIN:VEVENT
DTEND:20210406T150000Z
UID:69e6510c7f40a
DTSTAMP:19700101T000000Z
LOCATION:
DESCRIPTION:Mobbing hat viele Gesichter. Mobbing verunsichert uns und verletzt unsere Würde. Was sind die Ursachen, welche Auswege gibt es und wie schützen wir uns?
URL;VALUE=URI:https://dev.koelner-wissenschaftsrunde.de/kwr_termine/kein-joke-mobbing-unter-kindern-entstehung-und-auswege/
SUMMARY:Kein Joke! Mobbing unter Kindern – Entstehung und Auswege
DTSTART:20210406T080000Z
END:VEVENT
END:VCALENDAR