BEGIN:VCALENDAR
VERSION:2.0
PRODID:-//hacksw/handcal//NONSGML v1.0//EN
CALSCALE:GREGORIAN
BEGIN:VEVENT
DTEND:20220316T170000Z
UID:69e9f17fcdcdf
DTSTAMP:19700101T000000Z
LOCATION:
DESCRIPTION:Hinter dem manchmal etwas gruseligen Wort „Skelett“ verbergen sich ganz viele Knochen, die in unserem Körper stecken. Was aber machen sie da, wie werden sie zusammengehalten und was passiert eigentlich, wenn so ein Knochen verletzt wird?
URL;VALUE=URI:https://dev.koelner-wissenschaftsrunde.de/kwr_termine/unser-skelett-zum-anfassen-interessant/
SUMMARY:Unser Skelett zum Anfassen
DTSTART:20220316T153000Z
END:VEVENT
END:VCALENDAR