BEGIN:VCALENDAR
VERSION:2.0
PRODID:-//hacksw/handcal//NONSGML v1.0//EN
CALSCALE:GREGORIAN
BEGIN:VEVENT
DTEND:20260311T153000Z
UID:69ea085d23579
DTSTAMP:19700101T000000Z
LOCATION:
DESCRIPTION:Wer kennt das nicht: Manchmal ärgert uns der Körper plötzlich mit ganz unterschiedlichen Beschwerden. Kopfschmerzen, Bauchschmerzen, Luftnot…
URL;VALUE=URI:https://dev.koelner-wissenschaftsrunde.de/kwr_termine/wenn-der-koerper-uns-etwas-sagen-will-3/
SUMMARY:Wenn der Körper uns etwas sagen will
DTSTART:20260311T143000Z
END:VEVENT
END:VCALENDAR