BEGIN:VCALENDAR
VERSION:2.0
PRODID:-//hacksw/handcal//NONSGML v1.0//EN
CALSCALE:GREGORIAN
BEGIN:VEVENT
DTEND:20260401T093000Z
UID:69e9f17f5d302
DTSTAMP:19700101T000000Z
LOCATION:
DESCRIPTION:Wann ist eigentlich jemand wirklich alt? Mit 60? 80? Oder vielleicht wenn man nicht mehr so schnell rennen kann wie du? Gemeinsam erkunden wir, was ‚alt sein‘ alles bedeuten kann.
URL;VALUE=URI:https://dev.koelner-wissenschaftsrunde.de/kwr_termine/zahl-gefuehl-oder-erfahrung-ab-wann-ist-man-eigentlich-alt/
SUMMARY:Zahl, Gefühl oder Erfahrung – Ab wann ist man eigentlich alt?
DTSTART:20260401T083000Z
END:VEVENT
END:VCALENDAR