BEGIN:VCALENDAR
VERSION:2.0
PRODID:-//hacksw/handcal//NONSGML v1.0//EN
CALSCALE:GREGORIAN
BEGIN:VEVENT
DTEND:20220322T170000Z
UID:69e9f19bc05d5
DTSTAMP:19700101T000000Z
LOCATION:
DESCRIPTION:Jeder weiß, wie ein Rettungswagen von außen aussieht. Aber woher kommt er? Wer fährt ihn? Warum kommt der Notarzt mit einem eigenen Wagen? Wo fährt der Rettungswagen mit uns hin und warum darf er über rote Ampeln fahren? Und wann kommt der Rettungshubschrauber?
URL;VALUE=URI:https://dev.koelner-wissenschaftsrunde.de/kwr_termine/was-passiert-wenn-ich-die-112-anrufe-2/
SUMMARY:Was passiert, wenn ich die 112 anrufe?
DTSTART:20220322T160000Z
END:VEVENT
END:VCALENDAR