BEGIN:VCALENDAR
VERSION:2.0
PRODID:-//hacksw/handcal//NONSGML v1.0//EN
CALSCALE:GREGORIAN
BEGIN:VEVENT
DTEND:20220308T170000Z
UID:69e63955cf22d
DTSTAMP:19700101T000000Z
LOCATION:
DESCRIPTION:Sprache und Sprechen kann man sehen? Wie und womit das denn? Und was sagt uns die Stimme über einen Menschen aus?
URL;VALUE=URI:https://dev.koelner-wissenschaftsrunde.de/kwr_termine/unsere-stimme-gruppe-1/
SUMMARY:Unsere Stimme (Gruppe 1)
DTSTART:20220308T153000Z
END:VEVENT
END:VCALENDAR