BEGIN:VCALENDAR
VERSION:2.0
PRODID:-//hacksw/handcal//NONSGML v1.0//EN
CALSCALE:GREGORIAN
BEGIN:VEVENT
DTEND:20220615T150000Z
UID:69e6397e8cf58
DTSTAMP:19700101T000000Z
LOCATION:
DESCRIPTION:Wie bringt man eigentlich ein Lämpchen zum Leuchten? Auf dem Programm steht: Selbermachen! Mit Steckbrett, elektronischen Bauteilen und Mikroprozessoren könnt Ihr selbst kleine Licht-Projekte bauen und Euren Ideen dabei freien Lauf lassen!
URL;VALUE=URI:https://dev.koelner-wissenschaftsrunde.de/kwr_termine/mikroprozessoren-zum-anfassen/
SUMMARY:Mikroprozessoren zum Anfassen
DTSTART:20220615T130000Z
END:VEVENT
END:VCALENDAR