BEGIN:VCALENDAR
VERSION:2.0
PRODID:-//hacksw/handcal//NONSGML v1.0//EN
CALSCALE:GREGORIAN
BEGIN:VEVENT
DTEND:20211124T153000Z
UID:69e63983ca22d
DTSTAMP:19700101T000000Z
LOCATION:
DESCRIPTION:Ein eigenes Computerspiel entwickeln? Das geht viel einfacher als man denkt! Wir zeigen dir wie das geht. Keine Vorkenntnisse notwendig. Ob Mädchen oder Junge: dieser Workshop ist für alles was!
URL;VALUE=URI:https://dev.koelner-wissenschaftsrunde.de/kwr_termine/dino-hat-hunger-bau-dein-erstes-computerspiel/
SUMMARY:Dino hat Hunger! &#8211; Bau Dein erstes Computerspiel.
DTSTART:20211124T140000Z
END:VEVENT
END:VCALENDAR