BEGIN:VCALENDAR
VERSION:2.0
PRODID:-//hacksw/handcal//NONSGML v1.0//EN
CALSCALE:GREGORIAN
BEGIN:VEVENT
DTEND:20260307T133000Z
UID:69e63979e02c0
DTSTAMP:19700101T000000Z
LOCATION:
DESCRIPTION:Wir erforschen unseren Boden
URL;VALUE=URI:https://dev.koelner-wissenschaftsrunde.de/kwr_termine/was-der-regenwurm-mit-der-erde-erlebt/
SUMMARY:Was der Regenwurm mit der Erde erlebt
DTSTART:20260307T100000Z
END:VEVENT
END:VCALENDAR