BEGIN:VCALENDAR
VERSION:2.0
PRODID:-//hacksw/handcal//NONSGML v1.0//EN
CALSCALE:GREGORIAN
BEGIN:VEVENT
DTEND:20220405T160000Z
UID:69e6395fbf00f
DTSTAMP:19700101T000000Z
LOCATION:
DESCRIPTION:Kohlenstoff ist eines der bekanntesten, ältesten und auch vielseitigsten chemischen Elemente. Was aber ist ein chemisches Element überhaupt? Und was ist das Besondere an dem Element Kohlenstoff? Ist es bedeutsam, dass Kohlenstoff (chemisches Symbol C) fest, flüssig oder gasförmig sein kann? Was hat das damit zu tun, dass Kohlenstoff so weit verbreitet ist und sowohl in Lebewesen als auch in Dingen vorhanden ist?
URL;VALUE=URI:https://dev.koelner-wissenschaftsrunde.de/kwr_termine/kohlenstoff-das-wunderelement-interessant/
SUMMARY:Kohlenstoff – das Wunderelement
DTSTART:20220405T150000Z
END:VEVENT
END:VCALENDAR