BEGIN:VCALENDAR
VERSION:2.0
PRODID:-//hacksw/handcal//NONSGML v1.0//EN
CALSCALE:GREGORIAN
BEGIN:VEVENT
DTEND:20210601T140000Z
UID:69e6394b83546
DTSTAMP:19700101T000000Z
LOCATION:
DESCRIPTION:Etwas Unwerwartetes passiert, jemand gerät in eine Notsituation und Du sollst helfen. Wie bleibst Du ruhig und was machst Du jetzt Schritt für Schritt?
URL;VALUE=URI:https://dev.koelner-wissenschaftsrunde.de/kwr_termine/lebenretten-kann-jeder-auch-du/
SUMMARY:Lebenretten kann jeder! Auch du!
DTSTART:20210601T130000Z
END:VEVENT
END:VCALENDAR