BEGIN:VCALENDAR
VERSION:2.0
PRODID:-//hacksw/handcal//NONSGML v1.0//EN
CALSCALE:GREGORIAN
BEGIN:VEVENT
DTEND:20220504T143000Z
UID:69e88940467d7
DTSTAMP:19700101T000000Z
LOCATION:
DESCRIPTION:Ihr besucht virtuell 3 Städte in China und lernt die chinesische Kultur, aber auch bspw. die chinesischen Zahlen von 1-9 kennen. Seid gespannt!
URL;VALUE=URI:https://dev.koelner-wissenschaftsrunde.de/kwr_termine/eine-virtuelle-reise-nach-china-4/
SUMMARY:Eine virtuelle Reise nach China
DTSTART:20220504T130000Z
END:VEVENT
END:VCALENDAR