BEGIN:VCALENDAR
VERSION:2.0
PRODID:-//hacksw/handcal//NONSGML v1.0//EN
CALSCALE:GREGORIAN
BEGIN:VEVENT
DTEND:20220126T070000Z
UID:69e63946b5d20
DTSTAMP:19700101T000000Z
LOCATION:
DESCRIPTION:Wenn Ihr im März / April an den KinderUni-Veranstaltungen der Uni Köln teilnehmen möchtet, dann meldet Euch jetzt an! Vom Quantencomputer über Tierbeobachtungen bis zur Untersuchung von Sprache im Labor wartet auf Euch ein buntes Programm.
URL;VALUE=URI:https://dev.koelner-wissenschaftsrunde.de/kwr_termine/anmeldestart-an-der-uni-koeln/
SUMMARY:Anmeldestart an der Uni Köln
DTSTART:20220105T070000Z
END:VEVENT
END:VCALENDAR