BEGIN:VCALENDAR
VERSION:2.0
PRODID:-//hacksw/handcal//NONSGML v1.0//EN
CALSCALE:GREGORIAN
BEGIN:VEVENT
DTEND:20260526T173000Z
UID:69e6377eeeace
DTSTAMP:19700101T000000Z
LOCATION:
DESCRIPTION:Die Hochschule für Musik und Tanz Köln hat im vergangenen Jahr ihr 100-jähriges Bestehen ausgiebig und eindrucksvoll gefeiert. Die Spitzentöne präsentierten in zehn über das Jahr verteilten Konzerten eine spannende Reise durch 100 Jahre HfMT Köln, die jeweils eine Dekade beleuchteten.
URL;VALUE=URI:https://dev.koelner-wissenschaftsrunde.de/kwr_termine/spitzentoene-2026-nachtgesang/
SUMMARY:SPITZENTÖNE 2026 &#8211; NACHTGESANG
DTSTART:20260526T173000Z
END:VEVENT
END:VCALENDAR