BEGIN:VCALENDAR
VERSION:2.0
PRODID:-//hacksw/handcal//NONSGML v1.0//EN
CALSCALE:GREGORIAN
BEGIN:VEVENT
DTEND:20220516T130000Z
UID:69e637a1524e6
DTSTAMP:19700101T000000Z
LOCATION:
DESCRIPTION:Bereithalten, leuchtende Felder einprägen und los geht’s! Auf unserem SpeedCourt lauft Ihr so schnell es geht die Quadrate an, die auf dem Bildschirm aufleuchten. Zeigt uns, wie schnell Ihr seid!
URL;VALUE=URI:https://dev.koelner-wissenschaftsrunde.de/kwr_termine/basketball-speedcourt/
SUMMARY:Basketball SpeedCourt
DTSTART:20220516T120000Z
END:VEVENT
END:VCALENDAR